BEGIN:VCALENDAR
VERSION:2.0
PRODID:-//ChamberMaster//Event Calendar 2.0//EN
METHOD:PUBLISH
X-PUBLISHED-TTL:P3D
REFRESH-INTERVAL:P3D
CALSCALE:GREGORIAN
BEGIN:VEVENT
DTSTART:20221007T150000Z
DTEND:20221008T020000Z
X-MICROSOFT-CDO-ALLDAYEVENT:FALSE
SUMMARY:2022 Jambalaya Cook-off
DESCRIPTION:Click Here to download the entry form\nFor Sponsorship information click here\n\n\n\nHow to enter:\n\n\n	Press 'Register Now'\, then 'click here to continue your registration'. These steps will allow you to submit payment for your team.\n	Fill out the entry form linked above and submit it by mail or by email to maureen@broussardchamber.net.\n\n\n\nQuick Look:\n\nImportant Dates/Times:\n\nEvent Date - Friday\, October 7\, 2022\n\nEntry Deadline: Thursday\, September 22\, 2022\n\nLocation: Arceneaux Park\, 835 E. Main St. Broussard\, LA\n\n_______________________________________________________\n\n\n\nDetails:\n\n\n	Cook a jambalaya - any way you like! Contestants should cook enough to serve a minimum of 150 4oz servings.\n	Contestants will be responsible for booth set up\, tents\, water\, propane\, trash bags and cooking supplies.\n	Enjoy Broussard's 1st Music on Main community concert starting at 3pm\n	\n		Music on Main is taking the place of St. Julien Jams. Same family-friendly\, free community concert\, different location!\n	\n	\n\nEvent coordinators will supply 4oz sample containers and forks for tasting.\n\n\n\nCOMPLETED ENTRY FORM AND $100 ENTRY FEE MUST BE RECEIVED BY\n\nThursday\, September 22\, 2022. Registration will not be complete until payment is submitted.
X-ALT-DESC;FMTTYPE=text/html:<h2><u><strong><a href="https://chambermaster.blob.core.windows.net/userfiles/UserFiles/chambers/2649/File/2022JambalayaCookingContestEntryFormRules-FINAL8-17-222.pdf"><span style="color: rgb(255\, 0\, 0)\;">Click Here to download the entry form</span></a></strong></u></h2>\n<a href="https://chambermaster.blob.core.windows.net/userfiles/UserFiles/chambers/2649/File/2022JambalayaCook-OffSponsorshipOpps9-8-22.pdf"><span style="color:#FF0000\;"><span style="font-size:14px\;"><u><strong>For Sponsorship information click here</strong></u></span></span></a><br />\n<br />\n<strong>How to enter:</strong>\n\n<ol>\n	<li><span style="color:#FF0000\;"><strong>Press &#39\;Register Now&#39\;\, then &#39\;click here to continue your registration&#39\;</strong></span><span style="color:#FF0000\;"><strong>. These steps will allow you to submit payment for your team.</strong></span></li>\n	<li><span style="color:#FF0000\;"><strong>Fill out the entry form linked above and submit it by mail or by email to maureen@broussardchamber.net.</strong></span></li>\n</ol>\n<br />\nQuick Look:<br />\n<u><strong>Important Dates/Times:</strong></u><br />\n<strong>Event Date</strong> - Friday\, October 7\, 2022<br />\n<strong>Entry Deadline</strong>: Thursday\, September 22\, 2022<br />\n<strong>Location</strong>: Arceneaux Park\, 835 E. Main St. Broussard\, LA<br />\n_______________________________________________________<br />\n<br />\n<strong>Details</strong>:\n\n<ul>\n	<li>Cook a jambalaya - any way you like! Contestants should cook enough to serve a minimum of 150 4oz servings.</li>\n	<li>Contestants will be responsible for booth set up\, tents\, water\, propane\, trash bags and cooking supplies.</li>\n	<li>Enjoy Broussard&#39\;s 1st <a href="http://broussardchamberla.chambermaster.com/events/details/music-on-main-fall-2022-chubby-carrier-265">Music on Main</a> community concert starting at 3pm\n	<ul>\n		<li>Music on Main is taking the place of St. Julien Jams. Same family-friendly\, free community concert\, different location!</li>\n	</ul>\n	</li>\n</ul>\n<strong>Event coordinators will supply 4oz sample containers and forks for tasting.<br />\n<br />\n<span style="font-size:14px\;"><span style="color:#FF0000\;">COMPLETED ENTRY FORM AND $100 ENTRY FEE MUST BE RECEIVED BY<br />\nThursday\, September 22\, 2022. Registration will not be complete until payment is submitted.</span></span></strong>
LOCATION:
UID:e.2649.256
SEQUENCE:3
DTSTAMP:20260423T111408Z
URL:https://business.broussardchamber.net/events/details/2022-jambalaya-cook-off-256
END:VEVENT

END:VCALENDAR
