BEGIN:VCALENDAR
VERSION:2.0
PRODID:-//ChamberMaster//Event Calendar 2.0//EN
METHOD:PUBLISH
X-PUBLISHED-TTL:P3D
REFRESH-INTERVAL:P3D
CALSCALE:GREGORIAN
BEGIN:VEVENT
DTSTART:20221216T170000Z
DTEND:20221216T180000Z
X-MICROSOFT-CDO-ALLDAYEVENT:FALSE
SUMMARY:Acadiana Tax & Notary Grand Opening & Ribbon Cutting Event
DESCRIPTION:Please join us in welcoming Acadiana Tax & Notary to Broussard during their grand opening and ribbon cutting event.
X-ALT-DESC;FMTTYPE=text/html:<span style="font-size:14px\;"><span style="font-family:arial\;">Please join us in welcoming Acadiana Tax &amp\; Notary to Broussard during their grand opening and ribbon cutting event.</span></span>
LOCATION:3711 W Pinhook Rd. Broussard\, LA 70518
UID:e.2649.272
SEQUENCE:3
DTSTAMP:20260423T091125Z
URL:https://business.broussardchamber.net/events/details/acadiana-tax-notary-grand-opening-ribbon-cutting-event-272
END:VEVENT

END:VCALENDAR
