BEGIN:VCALENDAR
VERSION:2.0
PRODID:-//ChamberMaster//Event Calendar 2.0//EN
METHOD:PUBLISH
X-PUBLISHED-TTL:P3D
REFRESH-INTERVAL:P3D
CALSCALE:GREGORIAN
BEGIN:VEVENT
DTSTART:20220930T160000Z
DTEND:20220930T170000Z
X-MICROSOFT-CDO-ALLDAYEVENT:FALSE
SUMMARY:Batteries Plus Grand Opening & Ribbon Cutting Event
DESCRIPTION:Please join us in welcoming Batteries Plus to Broussard during their grand opening and ribbon cutting event.
X-ALT-DESC;FMTTYPE=text/html:Please join us in welcoming Batteries Plus to Broussard during their grand opening and ribbon cutting event.
LOCATION:224 St. Nazaire Rd. Suite 103 Broussard\, LA 70518
UID:e.2649.263
SEQUENCE:3
DTSTAMP:20260423T124129Z
URL:https://business.broussardchamber.net/events/details/batteries-plus-grand-opening-ribbon-cutting-event-263
END:VEVENT

END:VCALENDAR
