BEGIN:VCALENDAR
VERSION:2.0
PRODID:-//ChamberMaster//Event Calendar 2.0//EN
METHOD:PUBLISH
X-PUBLISHED-TTL:P3D
REFRESH-INTERVAL:P3D
CALSCALE:GREGORIAN
BEGIN:VEVENT
DTSTART:20230225T160000Z
DTEND:20230225T200000Z
X-MICROSOFT-CDO-ALLDAYEVENT:FALSE
SUMMARY:Best Stop Broussard Grand Opening & Ribbon Cutting Event
DESCRIPTION:Please join us in welcoming Best Stop to Broussard during their grand opening and ribbon cutting event.
X-ALT-DESC;FMTTYPE=text/html:Please join us in welcoming Best Stop to Broussard during their grand opening and ribbon cutting event.
LOCATION:1008 Smede Hwy A Broussard\, LA 70518
UID:e.2649.283
SEQUENCE:3
DTSTAMP:20260421T085120Z
URL:https://business.broussardchamber.net/events/details/best-stop-broussard-grand-opening-ribbon-cutting-event-283
END:VEVENT

END:VCALENDAR
