BEGIN:VCALENDAR
VERSION:2.0
PRODID:-//ChamberMaster//Event Calendar 2.0//EN
METHOD:PUBLISH
X-PUBLISHED-TTL:P3D
REFRESH-INTERVAL:P3D
CALSCALE:GREGORIAN
BEGIN:VEVENT
DTSTART:20240109T160000Z
DTEND:20240109T170000Z
X-MICROSOFT-CDO-ALLDAYEVENT:FALSE
SUMMARY:Broussard Chamber of Commerce and Broussard Chamber Foundation Presents: Emerging Leaders
DESCRIPTION:Professionals between the ages of 21 and 40 will gather every other month to network\, learn how to enhance leadership skills\, and grow as professionals in the Broussard community.
X-ALT-DESC;FMTTYPE=text/html:Professionals between the ages of 21 and 40 will gather every other month to network\, learn how to enhance leadership skills\, and grow as professionals in the Broussard community.&nbsp\;
LOCATION:PJ's Coffee 1137 South Bernard Blvd\, Broussard\, La
UID:e.2649.330
SEQUENCE:3
DTSTAMP:20260422T084042Z
URL:https://business.broussardchamber.net/events/details/broussard-chamber-of-commerce-and-broussard-chamber-foundation-presents-emerging-leaders-330
END:VEVENT

END:VCALENDAR
