BEGIN:VCALENDAR
VERSION:2.0
PRODID:-//ChamberMaster//Event Calendar 2.0//EN
METHOD:PUBLISH
X-PUBLISHED-TTL:P3D
REFRESH-INTERVAL:P3D
CALSCALE:GREGORIAN
BEGIN:VEVENT
DTSTART:20221110T233000Z
DTEND:20221111T023000Z
X-MICROSOFT-CDO-ALLDAYEVENT:FALSE
SUMMARY:Broussard Chamber of Commerce Inaugural Annual Banquet
DESCRIPTION:**This event is SOLD OUT**\n\n\n\nPlease join the Broussard Chamber for our Inaugural Annual Banquet at the Cade Community Center on Thursday\, November 10! We will enjoy networking\, a silent auction\, delicious food & drinks\, a VIP area\, and an amazing keynote speaker Justin Patton.\n\n\n\nClick HERE to view available sponsorship opportunities!
X-ALT-DESC;FMTTYPE=text/html:<p dir="ltr" style="line-height:1.38\;margin-top:0pt\;margin-bottom:0pt\;"><span id="docs-internal-guid-82b42c4e-7fff-6f86-176f-5935cc71d11e"><span style="color:#FF0000\;"><u><span style="font-size:36px\;"><strong>**This event is SOLD OUT**</strong></span></u></span><br />\n<br />\n<span style="font-size: 10pt\; font-family: Arial\; color: rgb(0\, 0\, 0)\; background-color: transparent\; font-variant-numeric: normal\; font-variant-east-asian: normal\; vertical-align: baseline\; white-space: pre-wrap\;">Please join the Broussard Chamber for our Inaugural Annual Banquet at the Cade Community Center on </span></span><span id="docs-internal-guid-82b42c4e-7fff-6f86-176f-5935cc71d11e"><span style="font-size: 10pt\; font-family: Arial\; color: rgb(0\, 0\, 0)\; background-color: transparent\; font-variant-numeric: normal\; font-variant-east-asian: normal\; vertical-align: baseline\; white-space: pre-wrap\;">Thursday\, November 10! We will enjoy networking\, a silent auction\, delicious food &amp\; drinks\, a VIP area\, and an amazing keynote speaker <a href="https://www.justinpatton.com/">Justin Patton</a>.<br />\n<br />\nClick <a href="https://chambermaster.blob.core.windows.net/userfiles/UserFiles/chambers/2649/File/AnnualBanquet-SponsorOppsFINAL.pdf">HERE</a> to view available sponsorship opportunities!</span></span></p>\n
LOCATION:Cade Community Center
UID:e.2649.222
SEQUENCE:3
DTSTAMP:20260423T100333Z
URL:https://business.broussardchamber.net/events/details/broussard-chamber-of-commerce-inaugural-annual-banquet-222
END:VEVENT

END:VCALENDAR
