BEGIN:VCALENDAR
VERSION:2.0
PRODID:-//ChamberMaster//Event Calendar 2.0//EN
METHOD:PUBLISH
X-PUBLISHED-TTL:P3D
REFRESH-INTERVAL:P3D
CALSCALE:GREGORIAN
BEGIN:VEVENT
DTSTART:20220929T233000Z
DTEND:20220930T013000Z
X-MICROSOFT-CDO-ALLDAYEVENT:FALSE
SUMMARY:Broussard City Council Candidate Forum
DESCRIPTION:On Thursday\, September 29\, 2022\, the Broussard Chamber of Commerce will host an exclusive opportunity to hear from City of Broussard Mayoral and City Council candidates during a forum that is open to the public at no charge and will be moderated by Bernadette Lee.\n\n\n\nThe following candidates have been invited to join a discussion regarding the opportunities\, challenges\, and important issues facing the City of Broussard: Ray Bourque\, Jr.\, Corey Morgan\, Jeff Delahoussaye\, Ray A. Gary\, Jeremy Frederick\, Angel Racca\, David M. Bonin\, Charles Sharma\, Jesse Regan\, Mark Ste. Marie\, Heather Girouard\, Michael Rabon\, David Forbes\, Ryan Romero\, Kody Allen\, Jeremy Foco.\n\n\n\nCandidates will field selected questions solicited from the public in advance. Interviews with candidates will be available immediately following the public event. We welcome you to cover this event.
X-ALT-DESC;FMTTYPE=text/html:On Thursday\, September 29\, 2022\, the Broussard Chamber of Commerce will host an exclusive opportunity to hear from City of Broussard Mayoral and City Council candidates during a forum that is open to the public at no charge and will be moderated by Bernadette Lee.<br />\n<br />\nThe following candidates have been invited to join a discussion regarding the opportunities\, challenges\, and important issues facing the City of Broussard: Ray Bourque\, Jr.\, Corey Morgan\, Jeff Delahoussaye\, Ray A. Gary\, Jeremy Frederick\, Angel Racca\, David M. Bonin\, Charles Sharma\, Jesse Regan\, Mark Ste. Marie\, Heather Girouard\, Michael Rabon\, David Forbes\, Ryan Romero\, Kody Allen\, Jeremy Foco.<br />\n<br />\nCandidates will field selected questions solicited from the public in advance. Interviews with candidates will be available immediately following the public event. We welcome you to cover this event.
LOCATION:Where: Our Savior's Church Broussard Campus 655 LA-96 Broussard\, LA 70518
UID:e.2649.266
SEQUENCE:3
DTSTAMP:20260423T123218Z
URL:https://business.broussardchamber.net/events/details/broussard-city-council-candidate-forum-266
END:VEVENT

END:VCALENDAR
