BEGIN:VCALENDAR
VERSION:2.0
PRODID:-//ChamberMaster//Event Calendar 2.0//EN
METHOD:PUBLISH
X-PUBLISHED-TTL:P3D
REFRESH-INTERVAL:P3D
CALSCALE:GREGORIAN
BEGIN:VEVENT
DTSTART:20220727T230000Z
DTEND:20220728T003000Z
X-MICROSOFT-CDO-ALLDAYEVENT:FALSE
SUMMARY:Broussard Idea Exchange
DESCRIPTION:Join us on July 27th as we partner with the 24 Hour Citizen Project at PJ's Coffee in Broussard to kick back and talk about ideas for the community from 6-7:30pm.\n\n\n\nWe'll start with some networking so that everyone can get to know one another. Then\, the 24 Hour Citizen Project will quickly explain what they're doing\, and how you can be involved. Then we will share ideas!\n\n\n\nALL ideas (good AND bad) are welcome. No idea is too small. No strings attached.\n\n\n\nDon't have an idea for your community? Folks that want to hear ideas are welcomed.\n\n\n\nwww.24HourCitizenProject.com\n\n---------------------\n\nWhat is the 24 Hour Citizen Project?\n\n\n\nThe 24 Hour Citizen Project is an annual event in Lafayette\, LA people with community-focused ideas are connected with expertise and financial backers to make their idea happen. This is an event created for citizens to impact their community directly through the pursuit of citizen-led projects.\n\n\n\nBe prepared to experience the ups and downs of pursuing your idea\, the pressure of getting it done in 24 hours\, and the encouragement given to you by your fellow citizens cheering you on!\n\n\n\nLearn more about the 24HCP here: http://24hourcitizenproject.com/
X-ALT-DESC;FMTTYPE=text/html:<div class="kvgmc6g5 cxmmr5t8 oygrvhab hcukyx3x c1et5uql ii04i59q" style="overflow-wrap: break-word\; margin: 0px\; white-space: pre-wrap\; font-family: &quot\;Segoe UI Historic&quot\;\, &quot\;Segoe UI&quot\;\, Helvetica\, Arial\, sans-serif\; color: rgb(5\, 5\, 5)\; font-size: 15px\;">\n<div dir="auto" style="font-family: inherit\;"><span style="font-size:14px\;"><span style="font-family:arial\;">Join us on July 27th as we partner with the 24 Hour Citizen Project at PJ&#39\;s Coffee in Broussard to kick back and talk about ideas for the community from 6-7:30pm.</span></span></div>\n</div>\n\n<div class="cxmmr5t8 oygrvhab hcukyx3x c1et5uql o9v6fnle ii04i59q" style="overflow-wrap: break-word\; margin: 0.5em 0px 0px\; white-space: pre-wrap\; font-family: &quot\;Segoe UI Historic&quot\;\, &quot\;Segoe UI&quot\;\, Helvetica\, Arial\, sans-serif\; color: rgb(5\, 5\, 5)\; font-size: 15px\;">\n<div dir="auto" style="font-family: inherit\;"><span style="font-size:14px\;"><span style="font-family:arial\;">We&#39\;ll start with some networking so that everyone can get to know one another. Then\, the 24 Hour Citizen Project will quickly explain what they&#39\;re doing\, and how you can be involved. Then we will share ideas!</span></span></div>\n</div>\n\n<div class="cxmmr5t8 oygrvhab hcukyx3x c1et5uql o9v6fnle ii04i59q" style="overflow-wrap: break-word\; margin: 0.5em 0px 0px\; white-space: pre-wrap\; font-family: &quot\;Segoe UI Historic&quot\;\, &quot\;Segoe UI&quot\;\, Helvetica\, Arial\, sans-serif\; color: rgb(5\, 5\, 5)\; font-size: 15px\;">\n<div dir="auto" style="font-family: inherit\;"><span style="font-size:14px\;"><span style="font-family:arial\;">ALL ideas (good AND bad) are welcome. No idea is too small. No strings attached.</span></span></div>\n</div>\n\n<div class="cxmmr5t8 oygrvhab hcukyx3x c1et5uql o9v6fnle ii04i59q" style="overflow-wrap: break-word\; margin: 0.5em 0px 0px\; white-space: pre-wrap\; font-family: &quot\;Segoe UI Historic&quot\;\, &quot\;Segoe UI&quot\;\, Helvetica\, Arial\, sans-serif\; color: rgb(5\, 5\, 5)\; font-size: 15px\;">\n<div dir="auto" style="font-family: inherit\;"><span style="font-size:14px\;"><span style="font-family:arial\;">Don&#39\;t have an idea for your community? Folks that want to hear ideas are welcomed.</span></span></div>\n</div>\n\n<div class="cxmmr5t8 oygrvhab hcukyx3x c1et5uql o9v6fnle ii04i59q" style="overflow-wrap: break-word\; margin: 0.5em 0px 0px\; white-space: pre-wrap\; font-family: &quot\;Segoe UI Historic&quot\;\, &quot\;Segoe UI&quot\;\, Helvetica\, Arial\, sans-serif\; color: rgb(5\, 5\, 5)\; font-size: 15px\;">\n<div dir="auto" style="font-family: inherit\;"><span style="font-size:14px\;"><span style="font-family:arial\;"><a class="oajrlxb2 g5ia77u1 qu0x051f esr5mh6w e9989ue4 r7d6kgcz rq0escxv nhd2j8a9 nc684nl6 p7hjln8o kvgmc6g5 cxmmr5t8 oygrvhab hcukyx3x jb3vyjys rz4wbd8a qt6c0cv9 a8nywdso i1ao9s8h esuyzwwr f1sip0of lzcic4wl gpro0wi8 py34i1dx" href="https://l.facebook.com/l.php?u=http%3A%2F%2Fwww.24HourCitizenProject.com%2F%3Ffbclid%3DIwAR35lVL8c4P5jxefjGtgWMSw4djAEYi85083Qr5Nh0Pv-g08gbCnBXCEox4&amp\;h=AT1f_RBy08ZeDyYut92NYowt76sDA36Wld8H9wu4HmCm8TYMx6fFXAyijip2uHNu44b4F0PscpvgNx9eKrZOPJoAXPAOxdD93RthyT_JtQ-XyaGexAV5Qq2XEudiHXOJBg&amp\;__tn__=-UK-R&amp\;c[0]=AT3E4jg0PEW_ararAtvDvHwUWit_nTj-NN_v3nZrImSsEAVJRKtWdohYwIQM1d70_NgvdK-vI9IJT9TQRx2i-9CB1YhoHy1qBX2Uz1LOCfMOwBJsOs1yYqytD0Nm_i2RXQ7nMpzucQ4oJpXLbzlsmK_HScEm0U1Z1BHBK_BjxaNCIw_Y8sfIt-U4uv8ub_UXSiioJpZa6-XT8zU9nAa1oTGx-aJRAkXkhTyoPeSA" rel="nofollow noopener" role="link" style="color: var(--blue-link)\; cursor: pointer\; text-decoration-line: none\; outline: none\; list-style: none\; border-width: 0px\; border-style: initial\; border-color: initial\; padding: 0px\; margin: 0px\; touch-action: manipulation\; background-color: transparent\; text-align: inherit\; display: inline\; -webkit-tap-highlight-color: transparent\; box-sizing: border-box\; font-family: inherit\;" tabindex="0" target="_blank">www.24HourCitizenProject.com</a></span></span></div>\n\n<div dir="auto" style="font-family: inherit\;"><span style="font-size:14px\;"><span style="font-family:arial\;">---------------------</span></span></div>\n\n<div dir="auto" style="font-family: inherit\;"><span style="font-size:14px\;"><span style="font-family:arial\;">What is the 24 Hour Citizen Project?</span></span></div>\n</div>\n\n<div class="cxmmr5t8 oygrvhab hcukyx3x c1et5uql o9v6fnle ii04i59q" style="overflow-wrap: break-word\; margin: 0.5em 0px 0px\; white-space: pre-wrap\; font-family: &quot\;Segoe UI Historic&quot\;\, &quot\;Segoe UI&quot\;\, Helvetica\, Arial\, sans-serif\; color: rgb(5\, 5\, 5)\; font-size: 15px\;">\n<div dir="auto" style="font-family: inherit\;"><span style="font-size:14px\;"><span style="font-family:arial\;">The 24 Hour Citizen Project is an annual event in Lafayette\, LA people with community-focused ideas are connected with expertise and financial backers to make their idea happen. This is an event created for citizens to impact their community directly through the pursuit of citizen-led projects.</span></span></div>\n</div>\n\n<div class="cxmmr5t8 oygrvhab hcukyx3x c1et5uql o9v6fnle ii04i59q" style="overflow-wrap: break-word\; margin: 0.5em 0px 0px\; white-space: pre-wrap\; font-family: &quot\;Segoe UI Historic&quot\;\, &quot\;Segoe UI&quot\;\, Helvetica\, Arial\, sans-serif\; color: rgb(5\, 5\, 5)\; font-size: 15px\;">\n<div dir="auto" style="font-family: inherit\;"><span style="font-size:14px\;"><span style="font-family:arial\;">Be prepared to experience the ups and downs of pursuing your idea\, the pressure of getting it done in 24 hours\, and the encouragement given to you by your fellow citizens cheering you on!</span></span></div>\n</div>\n\n<div class="cxmmr5t8 oygrvhab hcukyx3x c1et5uql o9v6fnle ii04i59q" style="overflow-wrap: break-word\; margin: 0.5em 0px 0px\; white-space: pre-wrap\; font-family: &quot\;Segoe UI Historic&quot\;\, &quot\;Segoe UI&quot\;\, Helvetica\, Arial\, sans-serif\; color: rgb(5\, 5\, 5)\; font-size: 15px\;">\n<div dir="auto" style="font-family: inherit\;"><span style="font-size:14px\;"><span style="font-family:arial\;">Learn more about the 24HCP here: <a class="oajrlxb2 g5ia77u1 qu0x051f esr5mh6w e9989ue4 r7d6kgcz rq0escxv nhd2j8a9 nc684nl6 p7hjln8o kvgmc6g5 cxmmr5t8 oygrvhab hcukyx3x jb3vyjys rz4wbd8a qt6c0cv9 a8nywdso i1ao9s8h esuyzwwr f1sip0of lzcic4wl gpro0wi8 py34i1dx" href="http://24hourcitizenproject.com/?fbclid=IwAR17elGfpHpwlqjfpiSjCadm9Vt2J1-fOUq5LgRV-nrkd9Ddt8NxCAkWhc0" rel="nofollow noopener" role="link" style="color: var(--blue-link)\; cursor: pointer\; text-decoration-line: none\; outline: none\; list-style: none\; border-width: 0px\; border-style: initial\; border-color: initial\; padding: 0px\; margin: 0px\; touch-action: manipulation\; background-color: transparent\; text-align: inherit\; display: inline\; -webkit-tap-highlight-color: transparent\; box-sizing: border-box\; font-family: inherit\;" tabindex="0" target="_blank">http://24hourcitizenproject.com/</a></span></span></div>\n</div>\n
LOCATION:PJ's Coffee in Broussard 1137 S. Bernard Road\, Suite H Broussard\, LA
UID:e.2649.255
SEQUENCE:3
DTSTAMP:20260423T161806Z
URL:https://business.broussardchamber.net/events/details/broussard-idea-exchange-255
END:VEVENT

END:VCALENDAR
