BEGIN:VCALENDAR
VERSION:2.0
PRODID:-//ChamberMaster//Event Calendar 2.0//EN
METHOD:PUBLISH
X-PUBLISHED-TTL:P3D
REFRESH-INTERVAL:P3D
CALSCALE:GREGORIAN
BEGIN:VEVENT
DTSTART:20220704T210000Z
DTEND:20220705T023000Z
X-MICROSOFT-CDO-ALLDAYEVENT:FALSE
SUMMARY:Broussard Independence Day Festival 2022
DESCRIPTION:Join the City of Broussard and the Broussard Chamber of Commerce on July 4th!\n\nWe are fired up over the 17th Annual Fireworks Show happening over St. Julien Park on Monday\, July 4th.\n\nGates open at 4:00 pm\, and we will have our traditional event that includes activities for the kids\, a DJ\, and live music for everyone to enjoy! This year we've also added a Fire Truck Cool Down which will take place beginning at 4pm! \n\nThe Fireworks Show will begin at 9 pm!\n\nWe hope to see you there!
X-ALT-DESC;FMTTYPE=text/html:<div class="kvgmc6g5 cxmmr5t8 oygrvhab hcukyx3x c1et5uql" color:="" font-size:="" segoe="" style="overflow-wrap: break-word\; margin: 0px\; font-family: " ui="">Join the City of Broussard and the Broussard Chamber of Commerce on July 4th!</div>\n\n<div class="o9v6fnle cxmmr5t8 oygrvhab hcukyx3x c1et5uql" color:="" font-size:="" segoe="" style="overflow-wrap: break-word\; margin: 0.5em 0px 0px\; font-family: " ui="">We are fired up over the 17th Annual Fireworks Show happening over St. Julien Park on Monday\, July 4th.</div>\n\n<div class="o9v6fnle cxmmr5t8 oygrvhab hcukyx3x c1et5uql" color:="" font-size:="" segoe="" style="overflow-wrap: break-word\; margin: 0.5em 0px 0px\; font-family: " ui="">Gates open at 4:00&nbsp\;pm\, and we will have our traditional event that includes activities for the kids\, a DJ\, and live music for everyone to enjoy! This year we&#39\;ve also added a Fire Truck Cool Down which will take place beginning at 4pm!&nbsp\;</div>\n\n<div class="o9v6fnle cxmmr5t8 oygrvhab hcukyx3x c1et5uql" color:="" font-size:="" segoe="" style="overflow-wrap: break-word\; margin: 0.5em 0px 0px\; font-family: " ui="">The Fireworks Show will begin at 9 pm!</div>\n\n<div class="o9v6fnle cxmmr5t8 oygrvhab hcukyx3x c1et5uql" color:="" font-size:="" segoe="" style="overflow-wrap: break-word\; margin: 0.5em 0px 0px\; font-family: " ui="">We hope to see you there!</div>\n
LOCATION:St. Julien Park 701 St. Nazaire Rd. Broussard\, LA 70518
UID:e.2649.248
SEQUENCE:3
DTSTAMP:20260423T150918Z
URL:https://business.broussardchamber.net/events/details/broussard-independence-day-festival-2022-248
END:VEVENT

END:VCALENDAR
