BEGIN:VCALENDAR
VERSION:2.0
PRODID:-//ChamberMaster//Event Calendar 2.0//EN
METHOD:PUBLISH
X-PUBLISHED-TTL:P3D
REFRESH-INTERVAL:P3D
CALSCALE:GREGORIAN
BEGIN:VEVENT
DTSTART:20221027T220000Z
DTEND:20221028T000000Z
X-MICROSOFT-CDO-ALLDAYEVENT:FALSE
SUMMARY:Business After Hours: Courtesy Chevrolet Cadillac
DESCRIPTION:Courtesy Chevrolet Cadillac cordially invites you to come by their 1345 Evangeline Thruway location for a Business After Hours social. Join us at 5:00 pm on Thursday\, October 27\, for networking\, food and fun!
X-ALT-DESC;FMTTYPE=text/html:<span style="font-size:12px\;"><span style="font-family:arial\;">Courtesy </span></span>Chevrolet Cadillac&nbsp\;<span style="font-size:12px\;"><span style="font-family:arial\;"><span _mce_style="text-align: justify\; color: #000000\; font-size: 12pt\;" align="justify" style="text-align: justify\; color: rgb(0\, 0\, 0)\;">cordially invites you to come by their 1345 Evangeline Thruway location for a Business After Hours social. Join us at&nbsp\;<strong>5:00 pm on Thursday\, October 27\,</strong> for networking\, food and fun!</span></span></span>
LOCATION:Courtesy Chevrolet Cadillac 1345 Evangeline Thruway Broussard\, LA 70518
UID:e.2649.254
SEQUENCE:3
DTSTAMP:20260423T111858Z
URL:https://business.broussardchamber.net/events/details/business-after-hours-courtesy-chevrolet-cadillac-254
END:VEVENT

END:VCALENDAR
