BEGIN:VCALENDAR
VERSION:2.0
PRODID:-//ChamberMaster//Event Calendar 2.0//EN
METHOD:PUBLISH
X-PUBLISHED-TTL:P3D
REFRESH-INTERVAL:P3D
CALSCALE:GREGORIAN
BEGIN:VEVENT
DTSTART:20220127T230000Z
DTEND:20220128T010000Z
X-MICROSOFT-CDO-ALLDAYEVENT:FALSE
SUMMARY:Business After Hours: Lafayette Town Planner
DESCRIPTION:Lafayette Town Planner cordially invites you to come by 108 Broad View Dr. for a Business After Hours social. Join us at 5:00 pm on Thursday\, January 27\, for networking\, entertainment\, food and fun.
X-ALT-DESC;FMTTYPE=text/html:<span style="font-size: 12px\;"><span style="font-family: arial\;"><span _mce_style="text-align: justify\; color: #000000\; font-size: 12pt\;" align="justify" style="text-align: justify\; color: rgb(0\, 0\, 0)\;">Lafayette Town Planner cordially invites you to come by 108 Broad View Dr. for a Business After Hours social. Join us at&nbsp\;<strong>5:00 pm on Thursday\, January 27\,</strong> for networking\, entertainment\, food and fun.</span></span></span>
LOCATION:Broussard Chamber of Commerce 108 Broad View Dr. Broussard\, LA 70518
UID:e.2649.234
SEQUENCE:3
DTSTAMP:20260423T231925Z
URL:https://business.broussardchamber.net/events/details/business-after-hours-lafayette-town-planner-234
END:VEVENT

END:VCALENDAR
