BEGIN:VCALENDAR
VERSION:2.0
PRODID:-//ChamberMaster//Event Calendar 2.0//EN
METHOD:PUBLISH
X-PUBLISHED-TTL:P3D
REFRESH-INTERVAL:P3D
CALSCALE:GREGORIAN
BEGIN:VEVENT
DTSTART:20230209T220000Z
DTEND:20230210T000000Z
X-MICROSOFT-CDO-ALLDAYEVENT:FALSE
SUMMARY:Courtesy Automotive Group: Cadillac Lyriq Unveiling
DESCRIPTION:Please join us in the unveiling of the Cadillac Lyriq at Courtesy Automotive Group in Broussard!
X-ALT-DESC;FMTTYPE=text/html:<span style="font-size:14px\;"><span style="font-family:arial\;">Please join us in the unveiling of the Cadillac Lyriq at Courtesy Automotive Group in Broussard!&nbsp\;</span></span>
LOCATION:1345 Evangeline Thruway Broussard\, LA 70518
UID:e.2649.281
SEQUENCE:3
DTSTAMP:20260421T084949Z
URL:https://business.broussardchamber.net/events/details/courtesy-automotive-group-cadillac-lyriq-unveiling-281
END:VEVENT

END:VCALENDAR
