BEGIN:VCALENDAR
VERSION:2.0
PRODID:-//ChamberMaster//Event Calendar 2.0//EN
METHOD:PUBLISH
X-PUBLISHED-TTL:P3D
REFRESH-INTERVAL:P3D
CALSCALE:GREGORIAN
BEGIN:VEVENT
DTSTART:20220811T140000Z
DTEND:20220811T160000Z
X-MICROSOFT-CDO-ALLDAYEVENT:FALSE
SUMMARY:Courtesy Value Center Hwy 90 Grand Opening & Ribbon Cutting
DESCRIPTION:Please join us in welcoming Courtesy Value Center Hwy 90 to Broussard during their grand opening & ribbon cutting event.
X-ALT-DESC;FMTTYPE=text/html:Please join us in welcoming Courtesy Value Center Hwy 90 to Broussard during their grand opening &amp\; ribbon cutting event.
LOCATION:4001 Hwy 90 E.\, Broussard
UID:e.2649.253
SEQUENCE:3
DTSTAMP:20260423T135357Z
URL:https://business.broussardchamber.net/events/details/courtesy-value-center-hwy-90-grand-opening-ribbon-cutting-253
END:VEVENT

END:VCALENDAR
