BEGIN:VCALENDAR
VERSION:2.0
PRODID:-//ChamberMaster//Event Calendar 2.0//EN
METHOD:PUBLISH
X-PUBLISHED-TTL:P3D
REFRESH-INTERVAL:P3D
CALSCALE:GREGORIAN
BEGIN:VEVENT
DTSTART:20221014T160000Z
DTEND:20221014T170000Z
X-MICROSOFT-CDO-ALLDAYEVENT:FALSE
SUMMARY:Grab N Geaux Grand Opening & Ribbon Cutting
DESCRIPTION:Please join us in welcoming Grab N Geaux to Broussard during their grand opening and ribbon cutting event.
X-ALT-DESC;FMTTYPE=text/html:Please join us in welcoming Grab N Geaux to Broussard during their grand opening and ribbon cutting event.
LOCATION:600 La Neuville Rd. Lafayette\, LA 70508
UID:e.2649.269
SEQUENCE:3
DTSTAMP:20260423T111756Z
URL:https://business.broussardchamber.net/events/details/grab-n-geaux-grand-opening-ribbon-cutting-269
END:VEVENT

END:VCALENDAR
