BEGIN:VCALENDAR
VERSION:2.0
PRODID:-//ChamberMaster//Event Calendar 2.0//EN
METHOD:PUBLISH
X-PUBLISHED-TTL:P3D
REFRESH-INTERVAL:P3D
CALSCALE:GREGORIAN
BEGIN:VEVENT
DTSTART:20221213T170000Z
DTEND:20221213T180000Z
X-MICROSOFT-CDO-ALLDAYEVENT:FALSE
SUMMARY:Grab N Geaux Grand Opening & Ribbon Cutting
DESCRIPTION:Please join us in welcoming Grab N Geaux' second location to Broussard during their grand opening and ribbon cutting event.
X-ALT-DESC;FMTTYPE=text/html:Please join us in welcoming Grab N Geaux&#39\; second location to Broussard during their grand opening and ribbon cutting event.
LOCATION:519 Albertson Pkwy. Broussard\, LA 70518
UID:e.2649.273
SEQUENCE:3
DTSTAMP:20260423T084912Z
URL:https://business.broussardchamber.net/events/details/grab-n-geaux-grand-opening-ribbon-cutting-273
END:VEVENT

END:VCALENDAR
