BEGIN:VCALENDAR
VERSION:2.0
PRODID:-//ChamberMaster//Event Calendar 2.0//EN
METHOD:PUBLISH
X-PUBLISHED-TTL:P3D
REFRESH-INTERVAL:P3D
CALSCALE:GREGORIAN
BEGIN:VEVENT
DTSTART:20220729T160000Z
DTEND:20220729T180000Z
X-MICROSOFT-CDO-ALLDAYEVENT:FALSE
SUMMARY:GuardianStore Ribbon Cutting
DESCRIPTION:Please join us in welcoming GuardianStore to Broussard during their ribbon cutting event.
X-ALT-DESC;FMTTYPE=text/html:Please join us in welcoming GuardianStore to Broussard during their&nbsp\;ribbon cutting event.
LOCATION:Located at the intersection of W. Fairfield Road at S. Bernard Road
UID:e.2649.252
SEQUENCE:3
DTSTAMP:20260423T150721Z
URL:https://business.broussardchamber.net/events/details/guardianstore-ribbon-cutting-252
END:VEVENT

END:VCALENDAR
