BEGIN:VCALENDAR
VERSION:2.0
PRODID:-//ChamberMaster//Event Calendar 2.0//EN
METHOD:PUBLISH
X-PUBLISHED-TTL:P3D
REFRESH-INTERVAL:P3D
CALSCALE:GREGORIAN
BEGIN:VEVENT
DTSTART:20220820T150000Z
DTEND:20220821T010000Z
X-MICROSOFT-CDO-ALLDAYEVENT:FALSE
SUMMARY:Katherine Grace Clothing Co 1st Anniversary Bash
DESCRIPTION:Please join us in celebrating Katherine Grace Clothing Co's one year anniversary during their 1st Anniversary Bash. We will gather at Katherine Grace Clothing Co located at 417 W. Main Street in Broussard at 10 am on August 20\, 2022.  The ribbon will be cut at 10 am\, but the community event will continue until 8 pm. There will be discounts\, giveaways\, refreshments\, pop vendors\, live music\, and more!
X-ALT-DESC;FMTTYPE=text/html:Please join us in celebrating Katherine Grace Clothing Co&#39\;s one year anniversary during their 1st Anniversary Bash. We will gather at Katherine Grace Clothing Co located at 417 W. Main Street in Broussard at 10 am on August 20\, 2022.&nbsp\; The ribbon will be cut at 10 am\, but the community event will continue until 8 pm. There will be discounts\, giveaways\, refreshments\, pop vendors\, live music\, and more!<br />\n&nbsp\;
LOCATION:Katherine Grace Clothing Co 417 W Main Street Broussard\, LA 70518
UID:e.2649.257
SEQUENCE:3
DTSTAMP:20260423T135057Z
URL:https://business.broussardchamber.net/events/details/katherine-grace-clothing-co-1st-anniversary-bash-257
END:VEVENT

END:VCALENDAR
