BEGIN:VCALENDAR
VERSION:2.0
PRODID:-//ChamberMaster//Event Calendar 2.0//EN
METHOD:PUBLISH
X-PUBLISHED-TTL:P3D
REFRESH-INTERVAL:P3D
CALSCALE:GREGORIAN
BEGIN:VEVENT
DTSTART:20230216T160000Z
DTEND:20230216T170000Z
X-MICROSOFT-CDO-ALLDAYEVENT:FALSE
SUMMARY:La Fiesta Mexican Grill Grand Opening & Ribbon Cutting Event
DESCRIPTION:Please join us in welcoming La Fiesta Mexican Grill to Broussard during their grand opening and ribbon cutting event.
X-ALT-DESC;FMTTYPE=text/html:<span style="font-size:14px\;"><span style="font-family:arial\;">Please join us in welcoming La Fiesta Mexican Grill to Broussard during their grand opening and ribbon cutting event.</span></span>
LOCATION:121 St. Nazaire Rd. Broussard\, LA 70518
UID:e.2649.278
SEQUENCE:3
DTSTAMP:20260421T085451Z
URL:https://business.broussardchamber.net/events/details/la-fiesta-mexican-grill-grand-opening-ribbon-cutting-event-278
END:VEVENT

END:VCALENDAR
