BEGIN:VCALENDAR
VERSION:2.0
PRODID:-//ChamberMaster//Event Calendar 2.0//EN
METHOD:PUBLISH
X-PUBLISHED-TTL:P3D
REFRESH-INTERVAL:P3D
CALSCALE:GREGORIAN
BEGIN:VEVENT
DTSTART;VALUE=DATE:20211219
DTEND;VALUE=DATE:20211220
TRANSP:TRANSPARENT
X-MICROSOFT-CDO-ALLDAYEVENT:TRUE
SUMMARY:Let it Glow! (City-Wide Christmas Decorating Contest)
DESCRIPTION:Help us deck the halls in Broussard by decorating the exterior of your residence or business! Register today and email a picture of your decorations once completed to enter. The deadline to register to participate is December 6th and photos of completed displays must be submitted by December 10th.\n\n	Your home or business must be in Broussard.\n	Register by December 6th.\n	Submit a photo of the completed display by email to members@broussardchamber.net. Photos should be submitted by noon on December 10th to complete registration.\n	A map of all entries will be created and released to the public for everyone to enjoy the displays.\n	Judging will take place from December 11-19 and winners will be announced on December 20th.
X-ALT-DESC;FMTTYPE=text/html:Help us deck the halls in Broussard by decorating the exterior of your residence or business! Register today and email a picture of your decorations once completed to enter. The deadline to register to participate is December 6th and photos of completed displays must be submitted by December 10th.\n<ul>\n	<li><em><strong>Your home or business must be in Broussard.</strong></em></li>\n	<li><strong><em>Register by December 6th.</em></strong></li>\n	<li><strong><em>Submit a photo of the completed display by email to <a href="mailto:members@broussardchamber.net">members@broussardchamber.net</a>. Photos should be submitted by noon on December 10<sup>th</sup> to complete registration.</em></strong></li>\n	<li><em><strong>A map of all entries will be created and released to the public for everyone to enjoy the displays.</strong></em></li>\n	<li><em><strong>Judging will take place from December 11-19 and winners will be announced on December 20th.</strong></em></li>\n</ul>\n
LOCATION:Broussard\, LA
UID:e.2649.224
SEQUENCE:3
DTSTAMP:20260424T005727Z
URL:https://business.broussardchamber.net/events/details/let-it-glow-city-wide-christmas-decorating-contest-224
END:VEVENT

END:VCALENDAR
