BEGIN:VCALENDAR
VERSION:2.0
PRODID:-//ChamberMaster//Event Calendar 2.0//EN
METHOD:PUBLISH
X-PUBLISHED-TTL:P3D
REFRESH-INTERVAL:P3D
CALSCALE:GREGORIAN
BEGIN:VEVENT
DTSTART:20220915T150000Z
DTEND:20220915T160000Z
X-MICROSOFT-CDO-ALLDAYEVENT:FALSE
SUMMARY:Love Acadiana Grand Opening & Ribbon Cutting Event
DESCRIPTION:Please join us in welcoming Love Acadiana to Broussard during their grand opening and ribbon cutting event.
X-ALT-DESC;FMTTYPE=text/html:Please join us in welcoming Love Acadiana to Broussard during their grand opening and ribbon cutting event.
LOCATION:103 Birdie Lane\, Broussard
UID:e.2649.259
SEQUENCE:3
DTSTAMP:20260423T124015Z
URL:https://business.broussardchamber.net/events/details/love-acadiana-grand-opening-ribbon-cutting-event-259
END:VEVENT

END:VCALENDAR
