BEGIN:VCALENDAR
VERSION:2.0
PRODID:-//ChamberMaster//Event Calendar 2.0//EN
METHOD:PUBLISH
X-PUBLISHED-TTL:P3D
REFRESH-INTERVAL:P3D
CALSCALE:GREGORIAN
BEGIN:VEVENT
DTSTART:20230114T150000Z
DTEND:20230114T190000Z
X-MICROSOFT-CDO-ALLDAYEVENT:FALSE
SUMMARY:McDonald's Grand Opening & Ribbon Cutting Event
DESCRIPTION:Please join us in welcoming McDonald's to Broussard during their grand opening and ribbon cutting event.
X-ALT-DESC;FMTTYPE=text/html:<span style="font-size:14px\;"><span style="font-family:arial\;">Please join us in welcoming McDonald&#39\;s to Broussard during their grand opening and ribbon cutting event.</span></span>
LOCATION:208 St Nazaire Rd Broussard\, LA 70518
UID:e.2649.275
SEQUENCE:3
DTSTAMP:20260421T103042Z
URL:https://business.broussardchamber.net/events/details/mcdonald-s-grand-opening-ribbon-cutting-event-275
END:VEVENT

END:VCALENDAR
