BEGIN:VCALENDAR
VERSION:2.0
PRODID:-//ChamberMaster//Event Calendar 2.0//EN
METHOD:PUBLISH
X-PUBLISHED-TTL:P3D
REFRESH-INTERVAL:P3D
CALSCALE:GREGORIAN
BEGIN:VEVENT
DTSTART:20220712T140000Z
DTEND:20220713T040000Z
X-MICROSOFT-CDO-ALLDAYEVENT:FALSE
SUMMARY:McDonald's Groundbreaking
DESCRIPTION:Miller Management is celebrating the groundbreaking of their new McDonald's in Broussard! Please join us for this momentous occasion.
X-ALT-DESC;FMTTYPE=text/html:<span style="font-size:12px\;"><span style="font-family:arial\;">Miller Management is celebrating the groundbreaking of their new McDonald&#39\;s in Broussard!&nbsp\;<span style="color: rgb(0\, 0\, 0)\;">Please join us for this momentous occasion.</span></span></span>
LOCATION:
UID:e.2649.251
SEQUENCE:3
DTSTAMP:20260423T150504Z
URL:https://business.broussardchamber.net/events/details/mcdonald-s-groundbreaking-251
END:VEVENT

END:VCALENDAR
