BEGIN:VCALENDAR
VERSION:2.0
PRODID:-//ChamberMaster//Event Calendar 2.0//EN
METHOD:PUBLISH
X-PUBLISHED-TTL:P3D
REFRESH-INTERVAL:P3D
CALSCALE:GREGORIAN
BEGIN:VEVENT
DTSTART:20221007T203000Z
DTEND:20221008T020000Z
X-MICROSOFT-CDO-ALLDAYEVENT:FALSE
SUMMARY:Music On Main Fall 2022 - Chubby Carrier
DESCRIPTION:St. Julien Jams is moving & re-branding!\n\n\n\nBring your family to Arceneaux Park in Broussard for Music on Main! This is a free event with food and beverages available for purchase. We will have a kids zone with face painting\, cookie decorating\, and an obstacle course! This event will be happening in conjunction with the Broussard Chamber's Inaugural Jambalaya Cook-Off so come hungry!\n\n\n\nNo ice chests please. Gates open at 3 pm. A Canadian Folk Band will play from 3:00-5:30pm and Chubby Carrier will perform from 6:00 until 9:00.\n\n\n\nInterested in sponsoring? Click HERE to review available sponsorship opportunities. Email or call Maureen with questions: maureen@broussardchamber.net 337-837-6001
X-ALT-DESC;FMTTYPE=text/html:St. Julien Jams is moving &amp\; re-branding!<br />\n<br />\nBring your family to Arceneaux Park in Broussard for <em><strong>Music on Main</strong></em>! This is a free event with food and beverages available for purchase. We will have a kids zone with face painting\, cookie decorating\, and an obstacle course! This event will be happening in conjunction with the <a href="http://broussardchamberla.chambermaster.com/events/details/2022-jambalaya-cook-off-256">Broussard Chamber&#39\;s Inaugural Jambalaya Cook-Off</a> so come hungry!<br />\n<br />\nNo ice chests please. Gates open at 3 pm. A Canadian Folk Band will play from 3:00-5:30pm and Chubby Carrier will perform from 6:00 until 9:00.<br />\n<br />\nInterested in sponsoring? Click <a href="https://chambermaster.blob.core.windows.net/userfiles/UserFiles/chambers/2649/File/2022Fall-MusiconMainSponsorOpps9-2-22.pdf">HERE</a> to review available sponsorship opportunities. Email or call Maureen with questions: maureen@broussardchamber.net 337-837-6001
LOCATION:Arceneaux Park 835 E. Main St. Broussard\, LA
UID:e.2649.265
SEQUENCE:3
DTSTAMP:20260423T111300Z
URL:https://business.broussardchamber.net/events/details/music-on-main-fall-2022-chubby-carrier-265
END:VEVENT

END:VCALENDAR
