BEGIN:VCALENDAR
VERSION:2.0
PRODID:-//ChamberMaster//Event Calendar 2.0//EN
METHOD:PUBLISH
X-PUBLISHED-TTL:P3D
REFRESH-INTERVAL:P3D
CALSCALE:GREGORIAN
BEGIN:VEVENT
DTSTART:20221130T170000Z
DTEND:20221130T180000Z
X-MICROSOFT-CDO-ALLDAYEVENT:FALSE
SUMMARY:OHS America - Grand Opening Ribbon Cutting
DESCRIPTION:Please join us for the Grand Opening & Ribbon Cutting of OHS America!
X-ALT-DESC;FMTTYPE=text/html:Please join us for the Grand Opening &amp\; Ribbon Cutting of OHS America!
LOCATION:OHS America 3401 Hwy. 90 E\, Bldg. A Broussard\, LA 70518
UID:e.2649.267
SEQUENCE:3
DTSTAMP:20260423T111720Z
URL:https://business.broussardchamber.net/events/details/ohs-america-grand-opening-ribbon-cutting-267
END:VEVENT

END:VCALENDAR
