BEGIN:VCALENDAR
VERSION:2.0
PRODID:-//ChamberMaster//Event Calendar 2.0//EN
METHOD:PUBLISH
X-PUBLISHED-TTL:P3D
REFRESH-INTERVAL:P3D
CALSCALE:GREGORIAN
BEGIN:VEVENT
DTSTART:20221022T150000Z
DTEND:20221022T160000Z
X-MICROSOFT-CDO-ALLDAYEVENT:FALSE
SUMMARY:Oliver Lane Creative Studio Ribbon Cutting
DESCRIPTION:Please join us in welcoming Oliver Lane Creative Studio to the Broussard Chamber during their ribbon cutting event.
X-ALT-DESC;FMTTYPE=text/html:Please join us in welcoming Oliver Lane Creative Studio to the Broussard Chamber during their&nbsp\;ribbon cutting event.
LOCATION:114 Youngsville Hwy. Lafayette\, LA 70508
UID:e.2649.270
SEQUENCE:3
DTSTAMP:20260423T111310Z
URL:https://business.broussardchamber.net/events/details/oliver-lane-creative-studio-ribbon-cutting-270
END:VEVENT

END:VCALENDAR
