BEGIN:VCALENDAR
VERSION:2.0
PRODID:-//ChamberMaster//Event Calendar 2.0//EN
METHOD:PUBLISH
X-PUBLISHED-TTL:P3D
REFRESH-INTERVAL:P3D
CALSCALE:GREGORIAN
BEGIN:VEVENT
DTSTART:20220907T150000Z
DTEND:20220907T170000Z
X-MICROSOFT-CDO-ALLDAYEVENT:FALSE
SUMMARY:Planet VR - Ribbon Cutting & Grand Opening
DESCRIPTION:Please join us for the Grand Opening & Ribbon Cutting of Planet VR!
X-ALT-DESC;FMTTYPE=text/html:Please join us for the Grand Opening &amp\; Ribbon Cutting of Planet VR!
LOCATION:Planet VR 2800 W. Pinhook Rd. Suite 1 Lafayette\, LA 70508
UID:e.2649.261
SEQUENCE:3
DTSTAMP:20260423T123303Z
URL:https://business.broussardchamber.net/events/details/planet-vr-ribbon-cutting-grand-opening-261
END:VEVENT

END:VCALENDAR
