BEGIN:VCALENDAR
VERSION:2.0
PRODID:-//ChamberMaster//Event Calendar 2.0//EN
METHOD:PUBLISH
X-PUBLISHED-TTL:P3D
REFRESH-INTERVAL:P3D
CALSCALE:GREGORIAN
BEGIN:VEVENT
DTSTART:20221028T160000Z
DTEND:20221028T170000Z
X-MICROSOFT-CDO-ALLDAYEVENT:FALSE
SUMMARY:Poor Boy's Riverside Inn - 90th Anniversary Ribbon Cutting
DESCRIPTION:Please join us for the Poor Boy's Riverside Inn 90th Anniversary Ribbon Cutting!
X-ALT-DESC;FMTTYPE=text/html:Please join us for the Poor Boy&#39\;s Riverside Inn 90th Anniversary Ribbon Cutting!
LOCATION:Poor Boy's Riverside Inn 240 Tubing Rd. Broussard\, LA 70518
UID:e.2649.268
SEQUENCE:3
DTSTAMP:20260423T111913Z
URL:https://business.broussardchamber.net/events/details/poor-boy-s-riverside-inn-90th-anniversary-ribbon-cutting-268
END:VEVENT

END:VCALENDAR
