BEGIN:VCALENDAR
VERSION:2.0
PRODID:-//ChamberMaster//Event Calendar 2.0//EN
METHOD:PUBLISH
X-PUBLISHED-TTL:P3D
REFRESH-INTERVAL:P3D
CALSCALE:GREGORIAN
BEGIN:VEVENT
DTSTART:20220408T183000Z
DTEND:20220408T190000Z
X-MICROSOFT-CDO-ALLDAYEVENT:FALSE
SUMMARY:Ribbon Cutting: Code Ninjas
DESCRIPTION:Please join us for the Ribbon Cutting and Grand Opening celebration of Code Ninjas in Broussard on Friday April 8th at 1:30pm.
X-ALT-DESC;FMTTYPE=text/html:Please join us for the Ribbon Cutting and Grand Opening celebration of <strong>Code Ninjas </strong>in Broussard on Friday April 8th at 1:30pm.
LOCATION:1137 S Bernard Rd Broussard\, LA 70518
UID:e.2649.243
SEQUENCE:3
DTSTAMP:20260423T200835Z
URL:https://business.broussardchamber.net/events/details/ribbon-cutting-code-ninjas-243
END:VEVENT

END:VCALENDAR
