BEGIN:VCALENDAR
VERSION:2.0
PRODID:-//ChamberMaster//Event Calendar 2.0//EN
METHOD:PUBLISH
X-PUBLISHED-TTL:P3D
REFRESH-INTERVAL:P3D
CALSCALE:GREGORIAN
BEGIN:VEVENT
DTSTART:20211014T160000Z
DTEND:20211014T163000Z
X-MICROSOFT-CDO-ALLDAYEVENT:FALSE
SUMMARY:Ribbon Cutting: Colligan Creamtory & Funeral Services
DESCRIPTION:Please join us for the Ribbon Cutting celebration of Colligan Crematory & Funeral Services in Broussard and help us welcome them to Broussard!
X-ALT-DESC;FMTTYPE=text/html:Please join us for the Ribbon Cutting celebration of Colligan Crematory &amp\; Funeral Services in Broussard and help us welcome them to Broussard!
LOCATION:121 Park Center Dr. Broussard\, LA 70518
UID:e.2649.227
SEQUENCE:3
DTSTAMP:20260424T052243Z
URL:https://business.broussardchamber.net/events/details/ribbon-cutting-colligan-creamtory-funeral-services-227
END:VEVENT

END:VCALENDAR
