BEGIN:VCALENDAR
VERSION:2.0
PRODID:-//ChamberMaster//Event Calendar 2.0//EN
METHOD:PUBLISH
X-PUBLISHED-TTL:P3D
REFRESH-INTERVAL:P3D
CALSCALE:GREGORIAN
BEGIN:VEVENT
DTSTART:20220223T170000Z
DTEND:20220223T173000Z
X-MICROSOFT-CDO-ALLDAYEVENT:FALSE
SUMMARY:Ribbon Cutting: Evergreen CBD & Hemp
DESCRIPTION:Come out an celebrate the Grand Opening and Ribbon Cutting of Evergreen CBD & Hemp located at 1209 Albertson Pkwy Ste F in Broussard.
X-ALT-DESC;FMTTYPE=text/html:Come out an celebrate the Grand Opening and Ribbon Cutting of Evergreen CBD &amp\; Hemp located at 1209 Albertson Pkwy Ste F in Broussard.&nbsp\;
LOCATION:1209 Albertson Pkwy\, STE F Broussard\, LA 70518
UID:e.2649.237
SEQUENCE:3
DTSTAMP:20260423T214722Z
URL:https://business.broussardchamber.net/events/details/ribbon-cutting-evergreen-cbd-hemp-237
END:VEVENT

END:VCALENDAR
