BEGIN:VCALENDAR
VERSION:2.0
PRODID:-//ChamberMaster//Event Calendar 2.0//EN
METHOD:PUBLISH
X-PUBLISHED-TTL:P3D
REFRESH-INTERVAL:P3D
CALSCALE:GREGORIAN
BEGIN:VEVENT
DTSTART:20231207T200000Z
DTEND:20231207T203000Z
X-MICROSOFT-CDO-ALLDAYEVENT:FALSE
SUMMARY:Ribbon Cutting: Jo-Del's Monogramming and Gifts
DESCRIPTION:Jo-Del's has been a part of the Broussard Community since 1996\, offering monogramming on anything from baby clothes\, to stuffed animals\, pillows and blankets. Now with a storefront they also have an array of unique gifts with a little southern flare.
X-ALT-DESC;FMTTYPE=text/html:Jo-Del&#39\;s has been a part of the Broussard Community since 1996\, offering monogramming on anything from baby clothes\, to stuffed animals\, pillows and blankets. Now with a storefront they also have an array of unique gifts with a little southern flare.&nbsp\;&nbsp\;
LOCATION:106 East Main Street Broussard\, LA 70518
UID:e.2649.329
SEQUENCE:3
DTSTAMP:20260422T101301Z
URL:https://business.broussardchamber.net/events/details/ribbon-cutting-jo-del-s-monogramming-and-gifts-329
END:VEVENT

END:VCALENDAR
