BEGIN:VCALENDAR
VERSION:2.0
PRODID:-//ChamberMaster//Event Calendar 2.0//EN
METHOD:PUBLISH
X-PUBLISHED-TTL:P3D
REFRESH-INTERVAL:P3D
CALSCALE:GREGORIAN
BEGIN:VEVENT
DTSTART:20211202T230000Z
DTEND:20211202T233000Z
X-MICROSOFT-CDO-ALLDAYEVENT:FALSE
SUMMARY:Ribbon Cutting: Silk & Cypress
DESCRIPTION:Please join us for the Ribbon Cutting celebration of Silk & Cypress in Broussard on Thursday December 2nd at 5:00 p.m.
X-ALT-DESC;FMTTYPE=text/html:Please join us for the Ribbon Cutting celebration of Silk &amp\; Cypress in Broussard on Thursday December 2nd at 5:00 p.m.
LOCATION:209 Ida Rd Broussard\, LA 70518
UID:e.2649.232
SEQUENCE:3
DTSTAMP:20260424T005249Z
URL:https://business.broussardchamber.net/events/details/ribbon-cutting-silk-cypress-232
END:VEVENT

END:VCALENDAR
