BEGIN:VCALENDAR
VERSION:2.0
PRODID:-//ChamberMaster//Event Calendar 2.0//EN
METHOD:PUBLISH
X-PUBLISHED-TTL:P3D
REFRESH-INTERVAL:P3D
CALSCALE:GREGORIAN
BEGIN:VEVENT
DTSTART:20220324T150000Z
DTEND:20220324T160000Z
X-MICROSOFT-CDO-ALLDAYEVENT:FALSE
SUMMARY:Ribbon Cutting: The UPS Store #7498
DESCRIPTION:Please join us for the Ribbon Cutting celebration of The UPS Store #7498  in Broussard on Thursday March 24th at 10:00am.
X-ALT-DESC;FMTTYPE=text/html:Please join us for the Ribbon Cutting celebration of The UPS Store #7498&nbsp\; in Broussard on Thursday March 24th at 10:00am.
LOCATION:1137 S Bernard Rd Broussard\, LA 70518
UID:e.2649.240
SEQUENCE:3
DTSTAMP:20260423T202440Z
URL:https://business.broussardchamber.net/events/details/ribbon-cutting-the-ups-store-7498-240
END:VEVENT

END:VCALENDAR
