BEGIN:VCALENDAR
VERSION:2.0
PRODID:-//ChamberMaster//Event Calendar 2.0//EN
METHOD:PUBLISH
X-PUBLISHED-TTL:P3D
REFRESH-INTERVAL:P3D
CALSCALE:GREGORIAN
BEGIN:VEVENT
DTSTART:20211021T223000Z
DTEND:20211022T020000Z
X-MICROSOFT-CDO-ALLDAYEVENT:FALSE
SUMMARY:St. Julien Jams Fall 2021 (Geno Delafose)
DESCRIPTION:Bring your family to the Broussard Sports Complex for St. Julien Jams! This is a free event\, however\, food and beverages will be available for purchase. So\, no ice chests please. Gates open at 5pm pm and Geno Delafose performs from 6:00 until 9:00.
X-ALT-DESC;FMTTYPE=text/html:Bring your family to the Broussard Sports Complex for St. Julien Jams! This is a free event\, however\, food and beverages will be available for purchase. So\, no ice chests please. Gates open at 5pm&nbsp\;pm and Geno Delafose performs from 6:00 until 9:00.
LOCATION:St. Julien Park Amphitheater 701 St. Nazaire Road Broussard\, LA
UID:e.2649.229
SEQUENCE:3
DTSTAMP:20260424T035547Z
URL:https://business.broussardchamber.net/events/details/st-julien-jams-fall-2021-geno-delafose-229
END:VEVENT

END:VCALENDAR
