BEGIN:VCALENDAR
VERSION:2.0
PRODID:-//ChamberMaster//Event Calendar 2.0//EN
METHOD:PUBLISH
X-PUBLISHED-TTL:P3D
REFRESH-INTERVAL:P3D
CALSCALE:GREGORIAN
BEGIN:VEVENT
DTSTART:20220421T223000Z
DTEND:20220422T013000Z
X-MICROSOFT-CDO-ALLDAYEVENT:FALSE
SUMMARY:St. Julien Jams Spring 2022 (The Chee Weez)
DESCRIPTION:Bring your family to the Broussard Sports Complex for St. Julien Jams! This is a free event\, however\, food and beverages will be available for purchase. So\, no ice chests please. Gates open at 5 pm and The Chee Weez perform from 6:00 until 8:30.
X-ALT-DESC;FMTTYPE=text/html:Bring your family to the Broussard Sports Complex for St. Julien Jams! This is a free event\, however\, food and beverages will be available for purchase. So\, no ice chests please. Gates open at 5 pm and The Chee Weez perform from 6:00 until 8:30.
LOCATION:St. Julien Park Amphitheater 701 St. Nazaire Road Broussard\, LA
UID:e.2649.236
SEQUENCE:3
DTSTAMP:20260423T201639Z
URL:https://business.broussardchamber.net/events/details/st-julien-jams-spring-2022-the-chee-weez-236
END:VEVENT

END:VCALENDAR
