BEGIN:VCALENDAR
VERSION:2.0
PRODID:-//ChamberMaster//Event Calendar 2.0//EN
METHOD:PUBLISH
X-PUBLISHED-TTL:P3D
REFRESH-INTERVAL:P3D
CALSCALE:GREGORIAN
BEGIN:VEVENT
DTSTART:20230127T180000Z
DTEND:20230127T220000Z
X-MICROSOFT-CDO-ALLDAYEVENT:FALSE
SUMMARY:T-Mobile Grand Opening & Ribbon Cutting Event
DESCRIPTION:Please join us in welcoming T-Mobile to Broussard during their grand opening and ribbon cutting event.
X-ALT-DESC;FMTTYPE=text/html:<span style="font-size:14px\;"><span style="font-family:arial\;">Please join us in welcoming T-Mobile to Broussard during their grand opening and ribbon cutting event.</span></span>
LOCATION:121 St Nazaire Rd Ste A Broussard\, LA 70518
UID:e.2649.276
SEQUENCE:3
DTSTAMP:20260421T102257Z
URL:https://business.broussardchamber.net/events/details/t-mobile-grand-opening-ribbon-cutting-event-276
END:VEVENT

END:VCALENDAR
