BEGIN:VCALENDAR
VERSION:2.0
PRODID:-//ChamberMaster//Event Calendar 2.0//EN
METHOD:PUBLISH
X-PUBLISHED-TTL:P3D
REFRESH-INTERVAL:P3D
CALSCALE:GREGORIAN
BEGIN:VEVENT
DTSTART:20251113T173000Z
DTEND:20251113T183000Z
X-MICROSOFT-CDO-ALLDAYEVENT:FALSE
SUMMARY:The Cookie Door Celebrating Year Four
DESCRIPTION:The Cookie Door is celebrating four years of sweet fun right here in Broussard!  Stop by\, grab a treat\, and help us show some love to this amazing local business.
X-ALT-DESC;FMTTYPE=text/html:The Cookie Door is celebrating <em data-end="199" data-start="173">four years of sweet fun</em> right here in Broussard!&nbsp\; Stop by\, grab a treat\, and help us show some love to this amazing local business.&nbsp\;
LOCATION:The Cookie Door 730 Albertson Pkwy Broussard\, La 70518
UID:e.2649.403
SEQUENCE:3
DTSTAMP:20260421T233040Z
URL:https://business.broussardchamber.net/events/details/the-cookie-door-celebrating-year-four-403
END:VEVENT

END:VCALENDAR
