BEGIN:VCALENDAR
VERSION:2.0
PRODID:-//ChamberMaster//Event Calendar 2.0//EN
METHOD:PUBLISH
X-PUBLISHED-TTL:P3D
REFRESH-INTERVAL:P3D
CALSCALE:GREGORIAN
BEGIN:VEVENT
DTSTART:20220618T160000Z
DTEND:20220618T190000Z
X-MICROSOFT-CDO-ALLDAYEVENT:FALSE
SUMMARY:Towne Pharmacy 20th Anniversary Celebration
DESCRIPTION:Towne Pharmacy is celebrating their 20th anniversary in business! Please join us for this momentous occasion.
X-ALT-DESC;FMTTYPE=text/html:<span style="color: rgb(0\, 0\, 0)\;"><span style="font-size: 14px\;">Towne Pharmacy is celebrating their 20th anniversary in business! Please join us for this momentous occasion.</span></span>
LOCATION:
UID:e.2649.247
SEQUENCE:3
DTSTAMP:20260423T162535Z
URL:https://business.broussardchamber.net/events/details/towne-pharmacy-20th-anniversary-celebration-247
END:VEVENT

END:VCALENDAR
