BEGIN:VCALENDAR
VERSION:2.0
PRODID:-//ChamberMaster//Event Calendar 2.0//EN
METHOD:PUBLISH
X-PUBLISHED-TTL:P3D
REFRESH-INTERVAL:P3D
CALSCALE:GREGORIAN
BEGIN:VEVENT
DTSTART:20220813T150000Z
DTEND:20220813T200000Z
X-MICROSOFT-CDO-ALLDAYEVENT:FALSE
SUMMARY:ZenDog Ribbon Cutting & Grand Opening
DESCRIPTION:Please join us in welcoming ZenDog to Broussard during their grand opening & ribbon cutting event.\n\n10am - Ribbon Cutting\n\n10am-3pm Grand Opening Festivities
X-ALT-DESC;FMTTYPE=text/html:Please join us in welcoming ZenDog to Broussard during their grand opening &amp\; ribbon cutting event.<br />\n10am - Ribbon Cutting<br />\n10am-3pm Grand Opening Festivities
LOCATION:
UID:e.2649.250
SEQUENCE:3
DTSTAMP:20260423T135246Z
URL:https://business.broussardchamber.net/events/details/zendog-ribbon-cutting-grand-opening-250
END:VEVENT

END:VCALENDAR
